BEGIN:VCALENDAR
VERSION:2.0
PRODID:-//SBV - Forum Platte Heide - ECPv6.15.20//NONSGML v1.0//EN
CALSCALE:GREGORIAN
METHOD:PUBLISH
X-WR-CALNAME:SBV - Forum Platte Heide
X-ORIGINAL-URL:https://sbvplatteheide.de
X-WR-CALDESC:Veranstaltungen für SBV - Forum Platte Heide
REFRESH-INTERVAL;VALUE=DURATION:PT1H
X-Robots-Tag:noindex
X-PUBLISHED-TTL:PT1H
BEGIN:VTIMEZONE
TZID:Europe/Paris
BEGIN:DAYLIGHT
TZOFFSETFROM:+0100
TZOFFSETTO:+0200
TZNAME:CEST
DTSTART:20240331T010000
END:DAYLIGHT
BEGIN:STANDARD
TZOFFSETFROM:+0200
TZOFFSETTO:+0100
TZNAME:CET
DTSTART:20241027T010000
END:STANDARD
BEGIN:DAYLIGHT
TZOFFSETFROM:+0100
TZOFFSETTO:+0200
TZNAME:CEST
DTSTART:20250330T010000
END:DAYLIGHT
BEGIN:STANDARD
TZOFFSETFROM:+0200
TZOFFSETTO:+0100
TZNAME:CET
DTSTART:20251026T010000
END:STANDARD
BEGIN:DAYLIGHT
TZOFFSETFROM:+0100
TZOFFSETTO:+0200
TZNAME:CEST
DTSTART:20260329T010000
END:DAYLIGHT
BEGIN:STANDARD
TZOFFSETFROM:+0200
TZOFFSETTO:+0100
TZNAME:CET
DTSTART:20261025T010000
END:STANDARD
END:VTIMEZONE
BEGIN:VEVENT
DTSTART;TZID=Europe/Paris:20250607T140000
DTEND;TZID=Europe/Paris:20250610T233000
DTSTAMP:20260420T100354
CREATED:20250113T144236Z
LAST-MODIFIED:20250114T103129Z
UID:197-1749304800-1749598200@sbvplatteheide.de
SUMMARY:Getränkestand der Platte Heider Vereine
DESCRIPTION:Auch in diesem Jahr sind alle Platte Heider Vereine wieder mit ihrem Bierstand und dem Biergarten bei der Mendener Pfingstkirmes vertreten.\nWir sind wieder am gewohnten Standort unter dem Zeltdach zu finden. \nWir freuen uns auf Euch!
URL:https://sbvplatteheide.de/veranstaltung/getraenkestand-der-platte-heider-vereine/
LOCATION:Margot-Friedländer Platz\, Neumarkt 5\, Menden\, NRW\, 58708\, Germany
ATTACH;FMTTYPE=image/png:https://sbvplatteheide.de/wp-content/uploads/2024/12/pfingstkirmes-menden_20241227_210428_0000-e1736782994134.png
END:VEVENT
END:VCALENDAR