BEGIN:VCALENDAR
VERSION:2.0
PRODID:-//SBV - Forum Platte Heide - ECPv6.15.20//NONSGML v1.0//EN
CALSCALE:GREGORIAN
METHOD:PUBLISH
X-ORIGINAL-URL:https://sbvplatteheide.de
X-WR-CALDESC:Veranstaltungen für SBV - Forum Platte Heide
REFRESH-INTERVAL;VALUE=DURATION:PT1H
X-Robots-Tag:noindex
X-PUBLISHED-TTL:PT1H
BEGIN:VTIMEZONE
TZID:Europe/Paris
BEGIN:DAYLIGHT
TZOFFSETFROM:+0100
TZOFFSETTO:+0200
TZNAME:CEST
DTSTART:20250330T010000
END:DAYLIGHT
BEGIN:STANDARD
TZOFFSETFROM:+0200
TZOFFSETTO:+0100
TZNAME:CET
DTSTART:20251026T010000
END:STANDARD
BEGIN:DAYLIGHT
TZOFFSETFROM:+0100
TZOFFSETTO:+0200
TZNAME:CEST
DTSTART:20260329T010000
END:DAYLIGHT
BEGIN:STANDARD
TZOFFSETFROM:+0200
TZOFFSETTO:+0100
TZNAME:CET
DTSTART:20261025T010000
END:STANDARD
BEGIN:DAYLIGHT
TZOFFSETFROM:+0100
TZOFFSETTO:+0200
TZNAME:CEST
DTSTART:20270328T010000
END:DAYLIGHT
BEGIN:STANDARD
TZOFFSETFROM:+0200
TZOFFSETTO:+0100
TZNAME:CET
DTSTART:20271031T010000
END:STANDARD
END:VTIMEZONE
BEGIN:VEVENT
DTSTART;TZID=Europe/Paris:20260220T193000
DTEND;TZID=Europe/Paris:20260220T210000
DTSTAMP:20260419T195434
CREATED:20260126T165954Z
LAST-MODIFIED:20260126T165954Z
UID:287-1771615800-1771621200@sbvplatteheide.de
SUMMARY:Jahreshauptversammlung
DESCRIPTION:
URL:https://sbvplatteheide.de/veranstaltung/jahreshauptversammlung-2/
LOCATION:Jochen-Klepper-Haus\, Veilchenweg 26\, Menden\, NRW\, 58708\, Germany
ATTACH;FMTTYPE=image/png:https://sbvplatteheide.de/wp-content/uploads/2024/12/jahreshauptversammlung-e1736795959773.png
END:VEVENT
END:VCALENDAR