BEGIN:VCALENDAR
VERSION:2.0
PRODID:-//SBV - Forum Platte Heide - ECPv6.15.20//NONSGML v1.0//EN
CALSCALE:GREGORIAN
METHOD:PUBLISH
X-WR-CALNAME:SBV - Forum Platte Heide
X-ORIGINAL-URL:https://sbvplatteheide.de
X-WR-CALDESC:Veranstaltungen für SBV - Forum Platte Heide
REFRESH-INTERVAL;VALUE=DURATION:PT1H
X-Robots-Tag:noindex
X-PUBLISHED-TTL:PT1H
BEGIN:VTIMEZONE
TZID:Europe/Paris
BEGIN:DAYLIGHT
TZOFFSETFROM:+0100
TZOFFSETTO:+0200
TZNAME:CEST
DTSTART:20250330T010000
END:DAYLIGHT
BEGIN:STANDARD
TZOFFSETFROM:+0200
TZOFFSETTO:+0100
TZNAME:CET
DTSTART:20251026T010000
END:STANDARD
BEGIN:DAYLIGHT
TZOFFSETFROM:+0100
TZOFFSETTO:+0200
TZNAME:CEST
DTSTART:20260329T010000
END:DAYLIGHT
BEGIN:STANDARD
TZOFFSETFROM:+0200
TZOFFSETTO:+0100
TZNAME:CET
DTSTART:20261025T010000
END:STANDARD
BEGIN:DAYLIGHT
TZOFFSETFROM:+0100
TZOFFSETTO:+0200
TZNAME:CEST
DTSTART:20270328T010000
END:DAYLIGHT
BEGIN:STANDARD
TZOFFSETFROM:+0200
TZOFFSETTO:+0100
TZNAME:CET
DTSTART:20271031T010000
END:STANDARD
END:VTIMEZONE
BEGIN:VEVENT
DTSTART;TZID=Europe/Paris:20260523T000000
DTEND;TZID=Europe/Paris:20260526T235959
DTSTAMP:20260419T181841
CREATED:20260114T074048Z
LAST-MODIFIED:20260114T074136Z
UID:264-1779494400-1779839999@sbvplatteheide.de
SUMMARY:Getränkestand der Platte Heider Vereine
DESCRIPTION:Der traditionelle Getränkestand der Platte Heider Vereine findet wieder statt. \nIhr findet uns auf dem Margot-Friedländer Platz.
URL:https://sbvplatteheide.de/veranstaltung/getraenkestand-der-platte-heider-vereine-2/
LOCATION:Margot-Friedländer Platz\, Neumarkt 5\, Menden\, NRW\, 58708\, Germany
ATTACH;FMTTYPE=image/png:https://sbvplatteheide.de/wp-content/uploads/2026/01/Pfingstkirmes-Menden-1-e1768376489233.png
END:VEVENT
END:VCALENDAR