BEGIN:VCALENDAR
VERSION:2.0
PRODID:-//SBV - Forum Platte Heide - ECPv6.15.20//NONSGML v1.0//EN
CALSCALE:GREGORIAN
METHOD:PUBLISH
X-ORIGINAL-URL:https://sbvplatteheide.de
X-WR-CALDESC:Veranstaltungen für SBV - Forum Platte Heide
REFRESH-INTERVAL;VALUE=DURATION:PT1H
X-Robots-Tag:noindex
X-PUBLISHED-TTL:PT1H
BEGIN:VTIMEZONE
TZID:Europe/Paris
BEGIN:DAYLIGHT
TZOFFSETFROM:+0100
TZOFFSETTO:+0200
TZNAME:CEST
DTSTART:20240331T010000
END:DAYLIGHT
BEGIN:STANDARD
TZOFFSETFROM:+0200
TZOFFSETTO:+0100
TZNAME:CET
DTSTART:20241027T010000
END:STANDARD
BEGIN:DAYLIGHT
TZOFFSETFROM:+0100
TZOFFSETTO:+0200
TZNAME:CEST
DTSTART:20250330T010000
END:DAYLIGHT
BEGIN:STANDARD
TZOFFSETFROM:+0200
TZOFFSETTO:+0100
TZNAME:CET
DTSTART:20251026T010000
END:STANDARD
BEGIN:DAYLIGHT
TZOFFSETFROM:+0100
TZOFFSETTO:+0200
TZNAME:CEST
DTSTART:20260329T010000
END:DAYLIGHT
BEGIN:STANDARD
TZOFFSETFROM:+0200
TZOFFSETTO:+0100
TZNAME:CET
DTSTART:20261025T010000
END:STANDARD
END:VTIMEZONE
BEGIN:VEVENT
DTSTART;TZID=Europe/Paris:20250705T080000
DTEND;TZID=Europe/Paris:20250705T170000
DTSTAMP:20260420T063142
CREATED:20250113T144456Z
LAST-MODIFIED:20250620T115211Z
UID:200-1751702400-1751734800@sbvplatteheide.de
SUMMARY:Stadtteilfest
DESCRIPTION:Endlich wieder Platte Heide!🎉 \nAm 05. Juli ab 10 Uhr ist es soweit: Auf dem Schulhof wird gefeiert! 🙌 \nEuch erwartet ein buntes Programm für Groß und Klein:\nLeckeres Frühstück 🥐\nTreckerfahren für Kinder 🚜\nStöbern auf dem Flohmarkt 🛍️\nTolles Bühnenprogramm 🎤🎶 \nKommt vorbei und feiert mit uns! 🥳
URL:https://sbvplatteheide.de/veranstaltung/stadtteilfest/
LOCATION:Schulhof\, Margueritenweg 5\, Menden\, 58708\, Germany
ATTACH;FMTTYPE=image/jpeg:https://sbvplatteheide.de/wp-content/uploads/2025/01/IMG-20250620-WA0002.jpg
END:VEVENT
END:VCALENDAR