BEGIN:VCALENDAR
VERSION:2.0
PRODID:-//SBV - Forum Platte Heide - ECPv6.15.20//NONSGML v1.0//EN
CALSCALE:GREGORIAN
METHOD:PUBLISH
X-ORIGINAL-URL:https://sbvplatteheide.de
X-WR-CALDESC:Veranstaltungen für SBV - Forum Platte Heide
REFRESH-INTERVAL;VALUE=DURATION:PT1H
X-Robots-Tag:noindex
X-PUBLISHED-TTL:PT1H
BEGIN:VTIMEZONE
TZID:Europe/Paris
BEGIN:DAYLIGHT
TZOFFSETFROM:+0100
TZOFFSETTO:+0200
TZNAME:CEST
DTSTART:20250330T010000
END:DAYLIGHT
BEGIN:STANDARD
TZOFFSETFROM:+0200
TZOFFSETTO:+0100
TZNAME:CET
DTSTART:20251026T010000
END:STANDARD
BEGIN:DAYLIGHT
TZOFFSETFROM:+0100
TZOFFSETTO:+0200
TZNAME:CEST
DTSTART:20260329T010000
END:DAYLIGHT
BEGIN:STANDARD
TZOFFSETFROM:+0200
TZOFFSETTO:+0100
TZNAME:CET
DTSTART:20261025T010000
END:STANDARD
BEGIN:DAYLIGHT
TZOFFSETFROM:+0100
TZOFFSETTO:+0200
TZNAME:CEST
DTSTART:20270328T010000
END:DAYLIGHT
BEGIN:STANDARD
TZOFFSETFROM:+0200
TZOFFSETTO:+0100
TZNAME:CET
DTSTART:20271031T010000
END:STANDARD
END:VTIMEZONE
BEGIN:VEVENT
DTSTART;TZID=Europe/Paris:20260711T100000
DTEND;TZID=Europe/Paris:20260711T233000
DTSTAMP:20260419T195531
CREATED:20260114T072430Z
LAST-MODIFIED:20260415T093127Z
UID:253-1783764000-1783812600@sbvplatteheide.de
SUMMARY:Stadtteilfest
DESCRIPTION:Am 11. Juli ab 10 Uhr ist es soweit: Auf dem Schulhof wird gefeiert! 🙌 \nEuch erwartet ein buntes Programm für Groß und Klein:\nLeckeres Frühstück 🥐\nStöbern auf dem Flohmarkt 🛍️\nTolles Programm 🎤🎶 \n  \nKommt vorbei und feiert mit uns! 🥳
URL:https://sbvplatteheide.de/veranstaltung/stadtteilfest-2/
LOCATION:Schulhof\, Margueritenweg 5\, Menden\, 58708\, Germany
ATTACH;FMTTYPE=image/png:https://sbvplatteheide.de/wp-content/uploads/2026/01/Stadtteilfest-JULI-Platte-Heide-1-e1768376094254.png
END:VEVENT
END:VCALENDAR